{ "currentVersion": 11.1, "cimVersion": "3.1.0", "serviceDescription": "
Datos temáticos del Portal sobre Municipios de las Islas Canarias<\/SPAN><\/P><\/DIV><\/DIV>",
"mapName": "municipios_canarias",
"description": " Datos temáticos del Portal sobre Municipios de las Islas Canarias<\/SPAN><\/P><\/DIV><\/DIV>",
"copyrightText": "",
"supportsDynamicLayers": true,
"layers": [
{
"id": 0,
"name": "Municipios de Canarias",
"parentLayerId": -1,
"defaultVisibility": true,
"subLayerIds": null,
"minScale": 0,
"maxScale": 0,
"type": "Feature Layer",
"geometryType": "esriGeometryPolygon",
"supportsDynamicLegends": true
}
],
"tables": [],
"spatialReference": {
"wkid": 102100,
"latestWkid": 3857,
"xyTolerance": 0.001,
"zTolerance": 0.001,
"mTolerance": 0.001,
"falseX": -20037700,
"falseY": -30241100,
"xyUnits": 10000,
"falseZ": -100000,
"zUnits": 10000,
"falseM": -100000,
"mUnits": 10000
},
"singleFusedMapCache": true,
"tileInfo": {
"rows": 256,
"cols": 256,
"dpi": 96,
"format": "PNG",
"compressionQuality": 0,
"origin": {
"x": -2.0037508342787E7,
"y": 2.0037508342787E7
},
"spatialReference": {
"wkid": 102100,
"latestWkid": 3857,
"xyTolerance": 0.001,
"zTolerance": 0.001,
"mTolerance": 0.001,
"falseX": -20037700,
"falseY": -30241100,
"xyUnits": 10000,
"falseZ": -100000,
"zUnits": 10000,
"falseM": -100000,
"mUnits": 10000
},
"lods": [
{
"level": 0,
"resolution": 2445.98490512499,
"scale": 9244648.868618
},
{
"level": 1,
"resolution": 1222.992452562495,
"scale": 4622324.434309
},
{
"level": 2,
"resolution": 611.4962262813797,
"scale": 2311162.217155
},
{
"level": 3,
"resolution": 305.74811314055756,
"scale": 1155581.108577
},
{
"level": 4,
"resolution": 152.87405657041106,
"scale": 577790.554289
},
{
"level": 5,
"resolution": 76.43702828507324,
"scale": 288895.277144
},
{
"level": 6,
"resolution": 38.21851414253662,
"scale": 144447.638572
},
{
"level": 7,
"resolution": 19.10925707126831,
"scale": 72223.819286
},
{
"level": 8,
"resolution": 9.554628535634155,
"scale": 36111.909643
},
{
"level": 9,
"resolution": 4.77731426794937,
"scale": 18055.954822
},
{
"level": 10,
"resolution": 2.388657133974685,
"scale": 9027.977411
},
{
"level": 11,
"resolution": 1.1943285668550503,
"scale": 4513.988705
},
{
"level": 12,
"resolution": 0.5971642835598172,
"scale": 2256.994353
},
{
"level": 13,
"resolution": 0.29858214164761665,
"scale": 1128.497176
}
]
},
"storageInfo": {
"storageFormat": "esriMapCacheStorageModeCompactV2",
"packetSize": 128
},
"initialExtent": {
"xmin": -2603874.6679599555,
"ymin": 2795163.3683164124,
"xmax": -906320.3974688385,
"ymax": 3840634.4492611936,
"spatialReference": {
"cs": "pcs",
"wkid": 102100
}
},
"fullExtent": {
"xmin": -2027253.4215170725,
"ymin": 3202897.28124488,
"xmax": -1484193.5348275686,
"ymax": 3429837.229745193,
"spatialReference": {
"cs": "pcs",
"wkid": 102100
}
},
"datesInUnknownTimezone": false,
"minScale": 9244648.868618,
"maxScale": 1128.497176,
"minLOD": 0,
"maxLOD": 13,
"units": "esriMeters",
"supportedImageFormatTypes": "PNG32,PNG24,PNG,JPG,DIB,TIFF,EMF,PS,PDF,GIF,SVG,SVGZ,BMP",
"documentInfo": {
"Title": "municipios_canarias",
"Author": "",
"Comments": " Datos temáticos del Portal sobre Municipios de las Islas Canarias<\/SPAN><\/P><\/DIV><\/DIV>",
"Subject": "Datos temáticos del Portal sobre Municipios de las Islas Canarias",
"Category": "",
"Version": "2.9.0",
"AntialiasingMode": "Fast",
"TextAntialiasingMode": "Force",
"Keywords": "datos_tematicos_portal,municipios,canarias,datos,temáticos,tematicos,portal,islas"
},
"capabilities": "Query,Map,Data",
"supportedQueryFormats": "JSON, geoJSON, PBF",
"exportTilesAllowed": true,
"maxExportTilesCount": 1109913,
"referenceScale": 0.0,
"supportsDatumTransformation": true,
"archivingInfo": {"supportsHistoricMoment": true},
"supportsClipping": true,
"supportsSpatialFilter": true,
"supportsTimeRelation": true,
"supportsQueryDataElements": true,
"mapUnits": {"uwkid": 9001},
"maxRecordCount": 2000,
"maxImageHeight": 4096,
"maxImageWidth": 4096,
"supportedExtensions": "",
"serviceItemId": "35ff7a9206de4baca47654d88f845626"
}