{
 "currentVersion": 11.1,
 "cimVersion": "3.1.0",
 "serviceDescription": "",
 "mapName": "Base",
 "description": "",
 "copyrightText": "",
 "supportsDynamicLayers": true,
 "layers": [
  {
   "id": 0,
   "name": "DELIMITACIONES",
   "parentLayerId": -1,
   "defaultVisibility": true,
   "subLayerIds": [
    1,
    2,
    3,
    4,
    5,
    6
   ],
   "minScale": 72225,
   "maxScale": 281,
   "type": "Group Layer",
   "supportsDynamicLegends": false
  },
  {
   "id": 1,
   "name": "Limite municipal de Puerto de la Cruz",
   "parentLayerId": 0,
   "defaultVisibility": true,
   "subLayerIds": null,
   "minScale": 0,
   "maxScale": 0,
   "type": "Feature Layer",
   "geometryType": "esriGeometryPolyline",
   "supportsDynamicLegends": true
  },
  {
   "id": 2,
   "name": "Área Urbana del PEPCH",
   "parentLayerId": 0,
   "defaultVisibility": true,
   "subLayerIds": null,
   "minScale": 0,
   "maxScale": 0,
   "type": "Feature Layer",
   "geometryType": "esriGeometryPolygon",
   "supportsDynamicLegends": true
  },
  {
   "id": 3,
   "name": "Manzana del PEPCH",
   "parentLayerId": 0,
   "defaultVisibility": true,
   "subLayerIds": null,
   "minScale": 0,
   "maxScale": 0,
   "type": "Feature Layer",
   "geometryType": "esriGeometryPolygon",
   "supportsDynamicLegends": true
  },
  {
   "id": 4,
   "name": "Plan Especial de ordenación",
   "parentLayerId": 0,
   "defaultVisibility": true,
   "subLayerIds": null,
   "minScale": 0,
   "maxScale": 0,
   "type": "Feature Layer",
   "geometryType": "esriGeometryPolyline",
   "supportsDynamicLegends": true
  },
  {
   "id": 5,
   "name": "Cauce oficial de barrancos",
   "parentLayerId": 0,
   "defaultVisibility": true,
   "subLayerIds": null,
   "minScale": 0,
   "maxScale": 0,
   "type": "Feature Layer",
   "geometryType": "esriGeometryPolyline",
   "supportsDynamicLegends": true
  },
  {
   "id": 6,
   "name": "COSTAS",
   "parentLayerId": 0,
   "defaultVisibility": true,
   "subLayerIds": null,
   "minScale": 0,
   "maxScale": 0,
   "type": "Feature Layer",
   "geometryType": "esriGeometryPolyline",
   "supportsDynamicLegends": true
  },
  {
   "id": 7,
   "name": "CONDICIONES SINGULARES",
   "parentLayerId": -1,
   "defaultVisibility": true,
   "subLayerIds": null,
   "minScale": 72225,
   "maxScale": 281,
   "type": "Feature Layer",
   "geometryType": "esriGeometryPoint",
   "supportsDynamicLegends": true
  },
  {
   "id": 8,
   "name": "PATRIMONIO HISTÓRICO",
   "parentLayerId": -1,
   "defaultVisibility": true,
   "subLayerIds": [
    9,
    10
   ],
   "minScale": 72225,
   "maxScale": 281,
   "type": "Group Layer",
   "supportsDynamicLegends": false
  },
  {
   "id": 9,
   "name": "BIC",
   "parentLayerId": 8,
   "defaultVisibility": true,
   "subLayerIds": null,
   "minScale": 0,
   "maxScale": 0,
   "type": "Feature Layer",
   "geometryType": "esriGeometryPolyline",
   "supportsDynamicLegends": true
  },
  {
   "id": 10,
   "name": "Bien Catalogado",
   "parentLayerId": 8,
   "defaultVisibility": true,
   "subLayerIds": null,
   "minScale": 0,
   "maxScale": 0,
   "type": "Feature Layer",
   "geometryType": "esriGeometryPolygon",
   "supportsDynamicLegends": true
  }
 ],
 "tables": [],
 "spatialReference": {
  "wkid": 102100,
  "latestWkid": 3857,
  "xyTolerance": 0.001,
  "zTolerance": 0.001,
  "mTolerance": 0.001,
  "falseX": -20037700,
  "falseY": -30241100,
  "xyUnits": 10000,
  "falseZ": -100000,
  "zUnits": 10000,
  "falseM": -100000,
  "mUnits": 10000
 },
 "singleFusedMapCache": true,
 "tileInfo": {
  "rows": 256,
  "cols": 256,
  "dpi": 96,
  "format": "PNG",
  "compressionQuality": 0,
  "origin": {
   "x": -2.0037508342787E7,
   "y": 2.0037508342787E7
  },
  "spatialReference": {
   "wkid": 102100,
   "latestWkid": 3857,
   "xyTolerance": 0.001,
   "zTolerance": 0.001,
   "mTolerance": 0.001,
   "falseX": -20037700,
   "falseY": -30241100,
   "xyUnits": 1.4892314192838538E8,
   "falseZ": -100000,
   "zUnits": 10000,
   "falseM": -100000,
   "mUnits": 10000
  },
  "lods": [
   {
    "level": 0,
    "resolution": 2445.98490512499,
    "scale": 9244648.868618
   },
   {
    "level": 1,
    "resolution": 1222.992452562495,
    "scale": 4622324.434309
   },
   {
    "level": 2,
    "resolution": 611.4962262813797,
    "scale": 2311162.217155
   },
   {
    "level": 3,
    "resolution": 305.74811314055756,
    "scale": 1155581.108577
   },
   {
    "level": 4,
    "resolution": 152.87405657041106,
    "scale": 577790.554289
   },
   {
    "level": 5,
    "resolution": 76.43702828507324,
    "scale": 288895.277144
   },
   {
    "level": 6,
    "resolution": 38.21851414253662,
    "scale": 144447.638572
   },
   {
    "level": 7,
    "resolution": 19.10925707126831,
    "scale": 72223.819286
   },
   {
    "level": 8,
    "resolution": 9.554628535634155,
    "scale": 36111.909643
   },
   {
    "level": 9,
    "resolution": 4.77731426794937,
    "scale": 18055.954822
   },
   {
    "level": 10,
    "resolution": 2.388657133974685,
    "scale": 9027.977411
   },
   {
    "level": 11,
    "resolution": 1.1943285668550503,
    "scale": 4513.988705
   },
   {
    "level": 12,
    "resolution": 0.5971642835598172,
    "scale": 2256.994353
   },
   {
    "level": 13,
    "resolution": 0.29858214164761665,
    "scale": 1128.497176
   },
   {
    "level": 14,
    "resolution": 0.14929107082380833,
    "scale": 564.248588
   }
  ]
 },
 "storageInfo": {
  "storageFormat": "esriMapCacheStorageModeCompactV2",
  "packetSize": 128
 },
 "initialExtent": {
  "xmin": -1844639.5022096043,
  "ymin": 3297620.01198467,
  "xmax": -1838943.127124268,
  "ymax": 3302978.631648755,
  "spatialReference": {
   "cs": "pcs",
   "wkid": 102100
  }
 },
 "fullExtent": {
  "xmin": -1844639.5022096045,
  "ymin": 3298239.873572512,
  "xmax": -1838943.127124268,
  "ymax": 3302358.770060913,
  "spatialReference": {
   "cs": "pcs",
   "wkid": 102100
  }
 },
 "datesInUnknownTimezone": false,
 "minScale": 9244648.868618,
 "maxScale": 564.248588,
 "minLOD": 0,
 "maxLOD": 14,
 "units": "esriMeters",
 "supportedImageFormatTypes": "PNG32,PNG24,PNG,JPG,DIB,TIFF,EMF,PS,PDF,GIF,SVG,SVGZ,BMP",
 "documentInfo": {
  "Title": "pepch_pto.aprx",
  "Author": "",
  "Comments": "",
  "Subject": "",
  "Category": "",
  "Version": "3.1.0",
  "AntialiasingMode": "Fast",
  "TextAntialiasingMode": "Force",
  "Keywords": "Base,MapServer"
 },
 "capabilities": "Map,Query,Data",
 "supportedQueryFormats": "JSON, geoJSON, PBF",
 "exportTilesAllowed": false,
 "referenceScale": 0.0,
 "supportsDatumTransformation": true,
 "floorAwareMapProperties": {
  "defaultFloorFilterSettings": {
   "isEnabled": false
  }
 },
 "archivingInfo": {
  "supportsHistoricMoment": true
 },
 "supportsClipping": true,
 "supportsSpatialFilter": true,
 "supportsTimeRelation": true,
 "supportsQueryDataElements": true,
 "mapUnits": {
  "uwkid": 9001
 },
 "maxRecordCount": 2000,
 "maxImageHeight": 4096,
 "maxImageWidth": 4096,
 "supportedExtensions": "",
 "resampling": false,
 "serviceItemId": "d47dde52238645ba881252df73643d8d"
}
