View In:
ArcGIS JavaScript
ArcGIS Online Map Viewer
ArcGIS Earth
ArcGIS Pro
Service Description: <DIV STYLE="text-align:Left;"><DIV><DIV><P><SPAN>ZEPAs (Zonas de especial protección para las aves) de Canarias. Datos de 2022 y 2009 (Ojeadores).</SPAN></P><P><SPAN /></P></DIV></DIV></DIV>
Map Name: zepas_2022
Legend
All Layers and Tables
Dynamic Legend
Dynamic All Layers
Layers:
Description: <DIV STYLE="text-align:Left;"><DIV><DIV><P><SPAN>ZEPAs (Zonas de especial protección para las aves) de Canarias. Datos de 2022 y 2009 (Ojeadores).</SPAN></P><P><SPAN /></P></DIV></DIV></DIV>
Service Item Id: 6915f9831ee14ac894fd26e6468ade8f
Copyright Text:
Spatial Reference:
102100
(3857)
LatestVCSWkid(0)
Single Fused Map Cache: true
Tile Info:
- Height: 256
- Width: 256
- DPI: 96
-
Levels of Detail: 24
-
Level ID: 1
[ Start Tile, End Tile ]
- Resolution: 78271.5169639999
- Scale: 2.95828763795777E8
-
Level ID: 2
[ Start Tile, End Tile ]
- Resolution: 39135.7584820001
- Scale: 1.47914381897889E8
-
Level ID: 3
[ Start Tile, End Tile ]
- Resolution: 19567.8792409999
- Scale: 7.3957190948944E7
-
Level ID: 4
[ Start Tile, End Tile ]
- Resolution: 9783.93962049996
- Scale: 3.6978595474472E7
-
Level ID: 5
[ Start Tile, End Tile ]
- Resolution: 4891.96981024998
- Scale: 1.8489297737236E7
- Format: PNG
- Compression Quality: 0.0
- Origin: X: -2.0037508342787E7
Y: 2.0037508342787E7
- Spatial Reference: 102100
(3857)
LatestVCSWkid(0)
Storage Info:
- Storage Format: esriMapCacheStorageModeCompactV2
- Packet Size: 128
Initial Extent:
XMin: -2086722.6346599082
YMin: 3126610.411554669
XMax: -1313334.219841804
YMax: 3631487.4451889815
Spatial Reference: 102100
(3857)
LatestVCSWkid(0)
Full Extent:
XMin: -2027283.491523739
YMin: 3202897.2374118953
XMax: -1483142.0940288422
YMax: 3430937.03549146
Spatial Reference: 102100
(3857)
LatestVCSWkid(0)
Units: esriMeters
Supported Image Format Types: PNG32,PNG24,PNG,JPG,DIB,TIFF,EMF,PS,PDF,GIF,SVG,SVGZ,BMP
Document Info:
Title: zepas_2022
Author:
Comments: <DIV STYLE="text-align:Left;"><DIV><DIV><P><SPAN>ZEPAs (Zonas de especial protección para las aves) de Canarias. Datos de 2022 y 2009 (Ojeadores).</SPAN></P><P><SPAN /></P></DIV></DIV></DIV>
Subject: ZEPAs (Zonas de especial protección para las aves) de Canarias. Datos de 2022.
Category:
Keywords: ZEPA,ZEPAS,Zonas,Especial,Protección,Proteccion,Aves,Canarias,Datos Temáticos,datos,temáticos,tematicos,2022,ojeadores
AntialiasingMode: Fast
TextAntialiasingMode: Force
Supports Dynamic Layers: true
MaxRecordCount: 2000
MaxImageHeight: 4096
MaxImageWidth: 4096
Supported Query Formats: JSON, geoJSON, PBF
Supports Query Data Elements: true
Min Scale: 5.91657527591555E8
Max Scale: 18055.954822
Min LOD: 0
Max LOD: 15
Supports Datum Transformation: true
Child Resources:
Info
Dynamic Layer
Supported Operations:
Export Map
Identify
QueryLegends
QueryDomains
Find
EstimateExportTilesSize
ExportTiles
Return Updates